BEGIN:VCALENDAR
VERSION:2.0
PRODID:-//Bristol Mountain - ECPv6.15.14//NONSGML v1.0//EN
CALSCALE:GREGORIAN
METHOD:PUBLISH
X-ORIGINAL-URL:https://www.bristolmountain.com
X-WR-CALDESC:Events for Bristol Mountain
REFRESH-INTERVAL;VALUE=DURATION:PT1H
X-Robots-Tag:noindex
X-PUBLISHED-TTL:PT1H
BEGIN:VTIMEZONE
TZID:America/New_York
BEGIN:DAYLIGHT
TZOFFSETFROM:-0500
TZOFFSETTO:-0400
TZNAME:EDT
DTSTART:20170312T070000
END:DAYLIGHT
BEGIN:STANDARD
TZOFFSETFROM:-0400
TZOFFSETTO:-0500
TZNAME:EST
DTSTART:20171105T060000
END:STANDARD
BEGIN:DAYLIGHT
TZOFFSETFROM:-0500
TZOFFSETTO:-0400
TZNAME:EDT
DTSTART:20180311T070000
END:DAYLIGHT
BEGIN:STANDARD
TZOFFSETFROM:-0400
TZOFFSETTO:-0500
TZNAME:EST
DTSTART:20181104T060000
END:STANDARD
BEGIN:DAYLIGHT
TZOFFSETFROM:-0500
TZOFFSETTO:-0400
TZNAME:EDT
DTSTART:20190310T070000
END:DAYLIGHT
BEGIN:STANDARD
TZOFFSETFROM:-0400
TZOFFSETTO:-0500
TZNAME:EST
DTSTART:20191103T060000
END:STANDARD
END:VTIMEZONE
BEGIN:VEVENT
DTSTART;TZID=America/New_York:20180802T100000
DTEND;TZID=America/New_York:20180802T120000
DTSTAMP:20260420T190511
CREATED:20180801T124508Z
LAST-MODIFIED:20180801T124508Z
UID:10000086-1533204000-1533211200@www.bristolmountain.com
SUMMARY:Science & Climb
DESCRIPTION:Bristol Mountain Aerial Adventures is excited to announce Science & Climb for kids on Thursdays at 10am. Every Thursday (until 8/30) we will meet at 10am for a science lesson and experiment (approximately 30 minutes) and then head out to the park for an hour of climbing. \nKids Adventure Park – Ages 4-7 – Cost: $25 \nAerial Adventure Park (Yellow Courses\, One Hour Climbing) – Ages 8-11 – Cost: $32* \n*Kids can upgrade to a 3-hour climbing ticket for an extra $20. \nPlease call (585) 374-1180 for reservations. 
URL:https://www.bristolmountain.com/event/science-climb/2018-08-02/
LOCATION:Bristol Mountain Aerial Adventures\, 5589 South Hill Road\, Canandaigua\, NY\, 14424\, United States
CATEGORIES:Bristol Mountain Aerial Adventures
ATTACH;FMTTYPE=image/jpeg:https://www.bristolmountain.com/wp-content/uploads/2018/08/2017-08-30-10.55.46-HDRsmall.jpg
GEO:42.7435262;-77.4201913
X-APPLE-STRUCTURED-LOCATION;VALUE=URI;X-ADDRESS=Bristol Mountain Aerial Adventures 5589 South Hill Road Canandaigua NY 14424 United States;X-APPLE-RADIUS=500;X-TITLE=5589 South Hill Road:geo:-77.4201913,42.7435262
END:VEVENT
END:VCALENDAR