BEGIN:VCALENDAR
VERSION:2.0
PRODID:-//Bristol Mountain - ECPv6.15.14//NONSGML v1.0//EN
CALSCALE:GREGORIAN
METHOD:PUBLISH
X-WR-CALNAME:Bristol Mountain
X-ORIGINAL-URL:https://www.bristolmountain.com
X-WR-CALDESC:Events for Bristol Mountain
REFRESH-INTERVAL;VALUE=DURATION:PT1H
X-Robots-Tag:noindex
X-PUBLISHED-TTL:PT1H
BEGIN:VTIMEZONE
TZID:America/New_York
BEGIN:DAYLIGHT
TZOFFSETFROM:-0500
TZOFFSETTO:-0400
TZNAME:EDT
DTSTART:20170312T070000
END:DAYLIGHT
BEGIN:STANDARD
TZOFFSETFROM:-0400
TZOFFSETTO:-0500
TZNAME:EST
DTSTART:20171105T060000
END:STANDARD
BEGIN:DAYLIGHT
TZOFFSETFROM:-0500
TZOFFSETTO:-0400
TZNAME:EDT
DTSTART:20180311T070000
END:DAYLIGHT
BEGIN:STANDARD
TZOFFSETFROM:-0400
TZOFFSETTO:-0500
TZNAME:EST
DTSTART:20181104T060000
END:STANDARD
BEGIN:DAYLIGHT
TZOFFSETFROM:-0500
TZOFFSETTO:-0400
TZNAME:EDT
DTSTART:20190310T070000
END:DAYLIGHT
BEGIN:STANDARD
TZOFFSETFROM:-0400
TZOFFSETTO:-0500
TZNAME:EST
DTSTART:20191103T060000
END:STANDARD
END:VTIMEZONE
BEGIN:VEVENT
DTSTART;TZID=America/New_York:20180707T190000
DTEND;TZID=America/New_York:20180707T220000
DTSTAMP:20260420T202145
CREATED:20180620T160840Z
LAST-MODIFIED:20180620T160840Z
UID:10000091-1530990000-1531000800@www.bristolmountain.com
SUMMARY:Night Climb @ Bristol Mountain Aerial Adventures
DESCRIPTION:Enjoy an evening climb (with a headlamp if necessary!) and a post climb bonfire under the stars. \nTime: 7pm -9pm with a bonfire after \nDates: Saturday\, July 7th\nSaturday\, August 4th\nSaturday\, September 1st\nSaturday\, October 6th \nCost: $52
URL:https://www.bristolmountain.com/event/night-climb-bristol-mountain-aerial-adventures/2018-07-07/
LOCATION:Bristol Mountain Aerial Adventures\, 5589 South Hill Road\, Canandaigua\, NY\, 14424\, United States
CATEGORIES:Bristol Mountain Aerial Adventures
ATTACH;FMTTYPE=image/jpeg:https://www.bristolmountain.com/wp-content/uploads/2018/06/Image1.jpg
GEO:42.7435262;-77.4201913
X-APPLE-STRUCTURED-LOCATION;VALUE=URI;X-ADDRESS=Bristol Mountain Aerial Adventures 5589 South Hill Road Canandaigua NY 14424 United States;X-APPLE-RADIUS=500;X-TITLE=5589 South Hill Road:geo:-77.4201913,42.7435262
END:VEVENT
END:VCALENDAR