BEGIN:VCALENDAR
VERSION:2.0
PRODID:-//Bristol Mountain - ECPv6.15.14//NONSGML v1.0//EN
CALSCALE:GREGORIAN
METHOD:PUBLISH
X-WR-CALNAME:Bristol Mountain
X-ORIGINAL-URL:https://www.bristolmountain.com
X-WR-CALDESC:Events for Bristol Mountain
REFRESH-INTERVAL;VALUE=DURATION:PT1H
X-Robots-Tag:noindex
X-PUBLISHED-TTL:PT1H
BEGIN:VTIMEZONE
TZID:America/New_York
BEGIN:DAYLIGHT
TZOFFSETFROM:-0500
TZOFFSETTO:-0400
TZNAME:EDT
DTSTART:20170312T070000
END:DAYLIGHT
BEGIN:STANDARD
TZOFFSETFROM:-0400
TZOFFSETTO:-0500
TZNAME:EST
DTSTART:20171105T060000
END:STANDARD
BEGIN:DAYLIGHT
TZOFFSETFROM:-0500
TZOFFSETTO:-0400
TZNAME:EDT
DTSTART:20180311T070000
END:DAYLIGHT
BEGIN:STANDARD
TZOFFSETFROM:-0400
TZOFFSETTO:-0500
TZNAME:EST
DTSTART:20181104T060000
END:STANDARD
BEGIN:DAYLIGHT
TZOFFSETFROM:-0500
TZOFFSETTO:-0400
TZNAME:EDT
DTSTART:20190310T070000
END:DAYLIGHT
BEGIN:STANDARD
TZOFFSETFROM:-0400
TZOFFSETTO:-0500
TZNAME:EST
DTSTART:20191103T060000
END:STANDARD
END:VTIMEZONE
BEGIN:VEVENT
DTSTART;TZID=America/New_York:20180704T090000
DTEND;TZID=America/New_York:20180704T180000
DTSTAMP:20260420T202139
CREATED:20180523T171103Z
LAST-MODIFIED:20180523T171541Z
UID:10000192-1530694800-1530727200@www.bristolmountain.com
SUMMARY:July 4th BBQ - Bristol Mountain Aerial Adventures
DESCRIPTION:Spend July 4th climbing in the trees with your family and friends. \nWe will be grilling all day for our guests. Enjoy complimentary hot dogs and refreshments by the bonfire after your climb.  \nWe’re looking forward to celebrating with you! \nReserve your visit: https://store.bristolmountain.com/E-CommerceAerialPark/
URL:https://www.bristolmountain.com/event/july-4th-bbq-bristol-mountain-aerial-adventures/
LOCATION:Bristol Mountain Aerial Adventures\, 5589 South Hill Road\, Canandaigua\, NY\, 14424\, United States
CATEGORIES:Bristol Mountain Aerial Adventures
ATTACH;FMTTYPE=image/jpeg:https://www.bristolmountain.com/wp-content/uploads/2018/05/July4th.jpg
GEO:42.7435262;-77.4201913
X-APPLE-STRUCTURED-LOCATION;VALUE=URI;X-ADDRESS=Bristol Mountain Aerial Adventures 5589 South Hill Road Canandaigua NY 14424 United States;X-APPLE-RADIUS=500;X-TITLE=5589 South Hill Road:geo:-77.4201913,42.7435262
END:VEVENT
END:VCALENDAR