BEGIN:VCALENDAR
VERSION:2.0
PRODID:-//Bristol Mountain - ECPv6.15.14//NONSGML v1.0//EN
CALSCALE:GREGORIAN
METHOD:PUBLISH
X-ORIGINAL-URL:https://www.bristolmountain.com
X-WR-CALDESC:Events for Bristol Mountain
REFRESH-INTERVAL;VALUE=DURATION:PT1H
X-Robots-Tag:noindex
X-PUBLISHED-TTL:PT1H
BEGIN:VTIMEZONE
TZID:America/New_York
BEGIN:DAYLIGHT
TZOFFSETFROM:-0500
TZOFFSETTO:-0400
TZNAME:EDT
DTSTART:20170312T070000
END:DAYLIGHT
BEGIN:STANDARD
TZOFFSETFROM:-0400
TZOFFSETTO:-0500
TZNAME:EST
DTSTART:20171105T060000
END:STANDARD
BEGIN:DAYLIGHT
TZOFFSETFROM:-0500
TZOFFSETTO:-0400
TZNAME:EDT
DTSTART:20180311T070000
END:DAYLIGHT
BEGIN:STANDARD
TZOFFSETFROM:-0400
TZOFFSETTO:-0500
TZNAME:EST
DTSTART:20181104T060000
END:STANDARD
BEGIN:DAYLIGHT
TZOFFSETFROM:-0500
TZOFFSETTO:-0400
TZNAME:EDT
DTSTART:20190310T070000
END:DAYLIGHT
BEGIN:STANDARD
TZOFFSETFROM:-0400
TZOFFSETTO:-0500
TZNAME:EST
DTSTART:20191103T060000
END:STANDARD
END:VTIMEZONE
BEGIN:VEVENT
DTSTART;TZID=America/New_York:20180617T090000
DTEND;TZID=America/New_York:20180617T180000
DTSTAMP:20260420T215608
CREATED:20180523T170847Z
LAST-MODIFIED:20180523T171751Z
UID:10000193-1529226000-1529258400@www.bristolmountain.com
SUMMARY:Celebrate Father's Day 2018 - Bristol Mountain Aerial Adventures
DESCRIPTION:Enjoy a great day as a family on Father’s Day! \nAll dads receive a FREE T-SHIRT when their families bring them to Bristol Mountain Aerial Adventures on Father’s Day.* \nTo avoid disappointment\, please call (585) 374-1180 to make a reservation or book online. \nhttps://store.bristolmountain.com/E-CommerceAerialPark/ \n*Dads must purchase an admission ticket and offer is based on t-shirt availability. Sizes are available on a first come first serve basis. Advanced reservations required.
URL:https://www.bristolmountain.com/event/celebrate-fathers-day-2018-bristol-mountain-aerial-adventures/
LOCATION:Bristol Mountain Aerial Adventures\, 5589 South Hill Road\, Canandaigua\, NY\, 14424\, United States
CATEGORIES:Bristol Mountain Aerial Adventures
ATTACH;FMTTYPE=image/jpeg:https://www.bristolmountain.com/wp-content/uploads/2018/05/FathersDay.jpg
GEO:42.7435262;-77.4201913
X-APPLE-STRUCTURED-LOCATION;VALUE=URI;X-ADDRESS=Bristol Mountain Aerial Adventures 5589 South Hill Road Canandaigua NY 14424 United States;X-APPLE-RADIUS=500;X-TITLE=5589 South Hill Road:geo:-77.4201913,42.7435262
END:VEVENT
END:VCALENDAR